BEGIN:VCALENDAR
VERSION:2.0
PRODID:-//Arbus Magazine - ECPv6.15.20//NONSGML v1.0//EN
CALSCALE:GREGORIAN
METHOD:PUBLISH
X-WR-CALNAME:Arbus Magazine
X-ORIGINAL-URL:https://arbus.com
X-WR-CALDESC:Events for Arbus Magazine
REFRESH-INTERVAL;VALUE=DURATION:PT1H
X-Robots-Tag:noindex
X-PUBLISHED-TTL:PT1H
BEGIN:VTIMEZONE
TZID:America/Indiana/Indianapolis
BEGIN:DAYLIGHT
TZOFFSETFROM:-0500
TZOFFSETTO:-0400
TZNAME:EDT
DTSTART:20240310T070000
END:DAYLIGHT
BEGIN:STANDARD
TZOFFSETFROM:-0400
TZOFFSETTO:-0500
TZNAME:EST
DTSTART:20241103T060000
END:STANDARD
BEGIN:DAYLIGHT
TZOFFSETFROM:-0500
TZOFFSETTO:-0400
TZNAME:EDT
DTSTART:20250309T070000
END:DAYLIGHT
BEGIN:STANDARD
TZOFFSETFROM:-0400
TZOFFSETTO:-0500
TZNAME:EST
DTSTART:20251102T060000
END:STANDARD
BEGIN:DAYLIGHT
TZOFFSETFROM:-0500
TZOFFSETTO:-0400
TZNAME:EDT
DTSTART:20260308T070000
END:DAYLIGHT
BEGIN:STANDARD
TZOFFSETFROM:-0400
TZOFFSETTO:-0500
TZNAME:EST
DTSTART:20261101T060000
END:STANDARD
END:VTIMEZONE
BEGIN:VEVENT
DTSTART;TZID=America/Indiana/Indianapolis:20251010T100000
DTEND;TZID=America/Indiana/Indianapolis:20251012T180000
DTSTAMP:20260424T061016
CREATED:20250901T203221Z
LAST-MODIFIED:20250901T203221Z
UID:33815-1760090400-1760292000@arbus.com
SUMMARY:WasabiCon 2025
DESCRIPTION:WasabiCon is Jacksonville’s annual celebration of anime\, cosplay\, and gaming! Otaku culture is front and center for Northeast Florida’s largest pop culture festival featuring three days of celebrity guests\, exhibitors\, artists\, tabletop gaming\, video games\, maid cafés\, and much\, much more. The event takes place Friday\, Saturday\, and Sunday\, October 10-12\, 2025 at the Prime F. Osborn III Convention Center located at 1000 Water Street\, Jacksonville\, Florida 32204. Tickets are available in advance or on-site: $25 Friday\, $45 Saturday\, $35 Sunday\, or $65 for a 3-Day Pass. Questions? jax@wasabicon.com
URL:https://arbus.com/event/wasabicon-2025/
LOCATION:Prime F. Osborn III Convention Center\, 1000 Water Street\, Jacksonville\, FL\, 32204\, United States
ATTACH;FMTTYPE=image/png:https://arbus.com/wp-content/uploads/2025/07/FacebookEvent-JAX.png
ORGANIZER;CN="WasabiCon":MAILTO:jax@wasabicon.com
END:VEVENT
BEGIN:VEVENT
DTSTART;TZID=America/Indiana/Indianapolis:20251018T110000
DTEND;TZID=America/Indiana/Indianapolis:20251018T190000
DTSTAMP:20260424T061016
CREATED:20250728T154737Z
LAST-MODIFIED:20250728T154737Z
UID:33894-1760785200-1760814000@arbus.com
SUMMARY:30th ANNUAL FESTA ITALIANA
DESCRIPTION:The Italian American Club joins the city in observance of October 2025 as Italian American Heritage Month. Come celebrate our anniversary\, 75 years of Italian culture\, tradition and service as the oldest ethnic organization in the First Coast. FREE admission\, entertainment and kids’ activities make this an exciting\, fun family event. \nAuthentic Italian Dinners include Cavatelli and Meatballs\, Baked Ziti\, Chicken Parmesan and Meatball and Sausage Subs. Homemade desserts\, Cannoli and Italian Ice complete a taste of Sunny Italy. Come for the Italiano goodies\, stay for the festivities. \nEnjoy LA VITA BELLA at FESTA ITALIANA!
URL:https://arbus.com/event/30th-annual-festa-italiana/
LOCATION:ITALIAN AMERICAN CLUB OF JACKSONVILLE\, 2838 WESTBERRY RD\, JACKSONVILLE\, FL\, 32223\, United States
ATTACH;FMTTYPE=image/png:https://arbus.com/wp-content/uploads/2025/07/lexi.png
ORGANIZER;CN="Italian American Club of Jacksonville":MAILTO:lgcortese@att.net
END:VEVENT
END:VCALENDAR